0.100000
0.000000
0.000000
-0.100000
-747499.950000
-1042500.050000
