0.100000
0.000000
0.000000
-0.100000
-743124.950000
-1042000.050000
