0.100000
0.000000
0.000000
-0.100000
-740624.950000
-1055500.050000
