0.100000
0.000000
0.000000
-0.100000
-739999.950000
-1052000.050000
