0.100000
0.000000
0.000000
-0.100000
-738124.950000
-1046000.050000
