0.100000
0.000000
0.000000
-0.100000
-736874.950000
-1051500.050000
