0.100000
0.000000
0.000000
-0.100000
-734374.950000
-1052000.050000
