0.100000
0.000000
0.000000
-0.100000
-731249.950000
-1051500.050000
