0.100000
0.000000
0.000000
-0.100000
-729999.950000
-1046500.050000
