0.100000
0.000000
0.000000
-0.100000
-729374.950000
-1041500.050000
