0.100000
0.000000
0.000000
-0.100000
-729374.950000
-1040000.050000
