0.100000
0.000000
0.000000
-0.100000
-725624.950000
-1051500.050000
