0.100000
0.000000
0.000000
-0.100000
-726874.950000
-1045500.050000
