0.100000
0.000000
0.000000
-0.100000
-749999.950000
-1037000.050000
