0.100000
0.000000
0.000000
-0.100000
-747499.950000
-1035500.050000
