0.100000
0.000000
0.000000
-0.100000
-745624.950000
-1034500.050000
