0.100000
0.000000
0.000000
-0.100000
-746874.950000
-1034500.050000
