0.100000
0.000000
0.000000
-0.100000
-743749.950000
-1037000.050000
