0.100000
0.000000
0.000000
-0.100000
-739999.950000
-1036500.050000
