0.100000
0.000000
0.000000
-0.100000
-737499.950000
-1034000.050000
