0.100000
0.000000
0.000000
-0.100000
-734999.950000
-1038500.050000
