0.100000
0.000000
0.000000
-0.100000
-729374.950000
-1036000.050000
