0.100000
0.000000
0.000000
-0.100000
-753749.950000
-1044500.050000
