0.100000
0.000000
0.000000
-0.100000
-750624.950000
-1050500.050000
