0.100000
0.000000
0.000000
-0.100000
-751249.950000
-1041000.050000
